BEGIN:VCALENDAR
VERSION:2.0
PRODID:-//ChamberMaster//Event Calendar 2.0//EN
METHOD:PUBLISH
X-PUBLISHED-TTL:P3D
REFRESH-INTERVAL:P3D
CALSCALE:GREGORIAN
BEGIN:VEVENT
DTSTART:20230914T230000Z
DTEND:20230915T010000Z
X-MICROSOFT-CDO-ALLDAYEVENT:FALSE
SUMMARY:2023 Healthcare Reception
DESCRIPTION:Quality healthcare is a key factor in economic development.  Each year\, the Chamber and our Healthcare Council\, comprised of healthcare professionals that represent our region\, express our gratitude to current physicians and thank new physicians for choosing to practice and serve here in the Fort Smith area.  During this reception\, the annual "Physician of the Year Award" is presented to a doctor who has made a significant contribution and impact to the community.  The Healthcare Reception offers our sponsors the opportunity to meet and give back to our area physicians. Tickets and Sponsorships are available.
X-ALT-DESC;FMTTYPE=text/html:<p><span style="color: rgb(31\, 73\, 125)\;">Quality healthcare is a key factor in economic development.&nbsp\; Each year\, the Chamber and our Healthcare Council\, comprised of healthcare professionals that represent our region\, express our gratitude to current physicians and thank new physicians for choosing to practice and serve here in the Fort Smith area.&nbsp\; During this reception\, the annual &quot\;Physician of the Year Award&quot\; is presented to a doctor who has made a significant contribution and impact to the community.&nbsp\; The Healthcare Reception offers our sponsors the opportunity to meet and give back to our area physicians.&nbsp\;</span><span style="color: rgb(31\, 73\, 125)\;">Tickets and Sponsorships are available.&nbsp\;</span></p>\n
LOCATION:Wyndham Fort Smith 700 Rogers Ave Fort Smith\, AR 72901
UID:e.201.17551
SEQUENCE:3
DTSTAMP:20260421T104237Z
URL:https://public.fortsmithchamber.com/events/details/2023-healthcare-reception-17551
END:VEVENT

END:VCALENDAR
