BEGIN:VCALENDAR
VERSION:2.0
PRODID:-//ChamberMaster//Event Calendar 2.0//EN
METHOD:PUBLISH
X-PUBLISHED-TTL:P3D
REFRESH-INTERVAL:P3D
CALSCALE:GREGORIAN
BEGIN:VEVENT
DTSTART;VALUE=DATE:20250823
DTEND;VALUE=DATE:20250824
TRANSP:TRANSPARENT
X-MICROSOFT-CDO-ALLDAYEVENT:TRUE
SUMMARY:Isaiah Joe Shooters Shoot Camp
DESCRIPTION:Get ready to elevate your game with Fort Smith's own Isaiah Joe! In partnership with the Fort Kids Children's Museum\, the ISAIAH JOE SHOOTERS SHOOT CAMP offers young athletes the chance to improve their game while making a positive impact in our community. Led by Isaiah Joe and his team of expert coaches\, participants will receive top-notch instruction on shooting techniques\, footwork\, and basketball fundamentals.\n\n\n\nWHAT TO EXPECT?\n\n	Expert guidance from Isaiah Joe and his team of coaches\n	Dynamic drills and exercises to enhance shooting mechanics\n	Engaging challenges and competitions to put skills to the test\n	Inspirational talks on the importance of dedication\, teamwork\, and perseverance\n\n\n\nWHO CAN ATTEND?  Boys and girls of all skill levels\, ages 6-14\, are welcome to join in the fun and sharpen their shooting prowess under the guidance of Isaiah Joe and his coaching staff.\n\n\n\nAges 6-9 will be in our morning session\, 9:00am - 12:00pm\n\nAges 10-14 will be in our afternoon session\, 2:00pm - 5:30pm\n\n\n\nNEW THIS YEAR! The camp will include an inclusive Spirit Squad to cheer\, celebrate and meet Isaiah Joe.  All abilities are welcome!  Please email info@fortkidschildrensmuseum for more information. \n\n\n\nLet's shoot some hoops and make a difference together!
X-ALT-DESC;FMTTYPE=text/html:<span style="font-family:neue plak\,-apple-system\,blinkmacsystemfont\,roboto\,helvetica neue\,helvetica\,tahoma\,arial\,sans-serif\; font-size:16px">Get ready to elevate your game with Fort Smith&#39\;s own Isaiah Joe! In partnership with the Fort Kids Children&#39\;s Museum\, the&nbsp\;<strong>ISAIAH JOE SHOOTERS SHOOT CAMP</strong><strong>&nbsp\;</strong>offers young athletes the chance to improve their game while making a positive impact in our community. Led by Isaiah Joe and his team of expert coaches\, participants will receive top-notch instruction on shooting techniques\, footwork\, and basketball fundamentals.</span><br />\n<br />\n<span style="font-family:neue plak\,-apple-system\,blinkmacsystemfont\,roboto\,helvetica neue\,helvetica\,tahoma\,arial\,sans-serif\; font-size:16px"><strong>WHAT TO EXPECT?</strong></span>\n<ul>\n	<li><span style="font-family:neue plak\,-apple-system\,blinkmacsystemfont\,roboto\,helvetica neue\,helvetica\,tahoma\,arial\,sans-serif\; font-size:16px">Expert guidance from Isaiah Joe and his team of coaches</span></li>\n	<li><span style="font-family:neue plak\,-apple-system\,blinkmacsystemfont\,roboto\,helvetica neue\,helvetica\,tahoma\,arial\,sans-serif\; font-size:16px">Dynamic drills and exercises to enhance shooting mechanics</span></li>\n	<li><span style="font-family:neue plak\,-apple-system\,blinkmacsystemfont\,roboto\,helvetica neue\,helvetica\,tahoma\,arial\,sans-serif\; font-size:16px">Engaging challenges and competitions to put skills to the test</span></li>\n	<li><span style="font-family:neue plak\,-apple-system\,blinkmacsystemfont\,roboto\,helvetica neue\,helvetica\,tahoma\,arial\,sans-serif\; font-size:16px">Inspirational talks on the importance of dedication\, teamwork\, and perseverance</span></li>\n</ul>\n<br />\n<span style="font-family:neue plak\,-apple-system\,blinkmacsystemfont\,roboto\,helvetica neue\,helvetica\,tahoma\,arial\,sans-serif\; font-size:16px"><strong>WHO CAN ATTEND?&nbsp\;</strong>&nbsp\;</span><span style="font-family:neue plak\,-apple-system\,blinkmacsystemfont\,roboto\,helvetica neue\,helvetica\,tahoma\,arial\,sans-serif\; font-size:16px">Boys and girls of all skill levels\, ages 6-14\, are welcome to join in the fun and sharpen their shooting prowess under the guidance of Isaiah Joe and his coaching staff.</span><br />\n<br />\n<span style="font-family:neue plak\,-apple-system\,blinkmacsystemfont\,roboto\,helvetica neue\,helvetica\,tahoma\,arial\,sans-serif\; font-size:16px">Ages 6-9 will be in our morning session\, <strong>9:00am - 12:00pm</strong></span><br />\n<span style="font-family:neue plak\,-apple-system\,blinkmacsystemfont\,roboto\,helvetica neue\,helvetica\,tahoma\,arial\,sans-serif\; font-size:16px">Ages 10-14 will be in our afternoon session\, <strong>2:00pm - 5:30pm</strong></span><br />\n<br />\n<span style="font-family:neue plak\,-apple-system\,blinkmacsystemfont\,roboto\,helvetica neue\,helvetica\,tahoma\,arial\,sans-serif\; font-size:16px"><strong>NEW THIS YEAR! </strong>The camp will include an inclusive<strong> Spirit Squad</strong> to cheer\, celebrate and meet Isaiah Joe.&nbsp\; All abilities are welcome!&nbsp\; <em>Please email info@fortkidschildrensmuseum for more information.&nbsp\;</em><br />\n<br />\nLet&#39\;s shoot some hoops and make a difference together!</span><br />\n&nbsp\;
LOCATION:NORTHSIDE HIGH SCHOOL North 25th Street Fort Smith\, Arkansas 72901
UID:e.201.23225
SEQUENCE:3
DTSTAMP:20260424T155124Z
URL:https://public.fortsmithchamber.com/events/details/isaiah-joe-shooters-shoot-camp-23225
END:VEVENT

END:VCALENDAR
