BEGIN:VCALENDAR
VERSION:2.0
PRODID:-//ChamberMaster//Event Calendar 2.0//EN
METHOD:PUBLISH
X-PUBLISHED-TTL:P3D
REFRESH-INTERVAL:P3D
CALSCALE:GREGORIAN
BEGIN:VEVENT
DTSTART;VALUE=DATE:20250313
DTEND;VALUE=DATE:20250314
TRANSP:TRANSPARENT
X-MICROSOFT-CDO-ALLDAYEVENT:TRUE
SUMMARY:JLCA 2025 - Closing Session
DESCRIPTION:Junior Leadership and Career Academy IX comes to a close! During this session\, students will recap all that they have learned in the last 7 sessions and get ready for commencement.
X-ALT-DESC;FMTTYPE=text/html:Junior Leadership and Career Academy IX comes to a close! During this session\, students will recap all that they have learned in the last 7 sessions and get ready for commencement.&nbsp\;
LOCATION:
UID:e.201.19837
SEQUENCE:3
DTSTAMP:20260422T022853Z
URL:https://public.fortsmithchamber.com/events/details/jlca-2025-closing-session-19837
END:VEVENT

END:VCALENDAR
