BEGIN:VCALENDAR
VERSION:2.0
PRODID:-//ChamberMaster//Event Calendar 2.0//EN
METHOD:PUBLISH
X-PUBLISHED-TTL:P3D
REFRESH-INTERVAL:P3D
CALSCALE:GREGORIAN
BEGIN:VEVENT
DTSTART:20251114T170000Z
DTEND:20251114T180000Z
X-MICROSOFT-CDO-ALLDAYEVENT:FALSE
SUMMARY:Ribbon Cutting: CATX Construction LLC
DESCRIPTION:Join us for a ribbon cutting to celebrate CATX Construction LLC.
X-ALT-DESC;FMTTYPE=text/html:Join us for a ribbon cutting to celebrate CATX Construction LLC.&nbsp\;
LOCATION:Fort Smith Chamber Board Room 612 Garrison Ave Fort Smith\, AR 72901
UID:e.201.23442
SEQUENCE:3
DTSTAMP:20260420T091036Z
URL:https://public.fortsmithchamber.com/events/details/ribbon-cutting-catx-construction-llc-23442
END:VEVENT

END:VCALENDAR
