BEGIN:VCALENDAR
VERSION:2.0
PRODID:-//ChamberMaster//Event Calendar 2.0//EN
METHOD:PUBLISH
X-PUBLISHED-TTL:P3D
REFRESH-INTERVAL:P3D
CALSCALE:GREGORIAN
BEGIN:VEVENT
DTSTART:20201029T160000Z
DTEND:20201029T163000Z
X-MICROSOFT-CDO-ALLDAYEVENT:FALSE
SUMMARY:Ribbon Cutting: CertaPro Painters
DESCRIPTION:Please join us to celebrate our new Fort Smith Chamber member Certa Pro Painters for a ribbon cutting at our offices. Please note this event will adhere to mask requirements and social distancing per mandates from the Arkansas Department of Health.  Registration to event is preferred.
X-ALT-DESC;FMTTYPE=text/html:Please join us to celebrate our new Fort Smith Chamber member Certa Pro Painters for a ribbon cutting at our offices.&nbsp\;Please note this event will adhere to mask requirements and social distancing per mandates from the Arkansas Department of Health.&nbsp\; Registration to event is preferred.&nbsp\;
LOCATION:Fort Smith Chamber 612 Garrison Ave. Fort Smith\, AR 72901
UID:e.201.10239
SEQUENCE:3
DTSTAMP:20260422T103638Z
URL:https://public.fortsmithchamber.com/events/details/ribbon-cutting-certapro-painters-10239
END:VEVENT

END:VCALENDAR
