BEGIN:VCALENDAR
VERSION:2.0
PRODID:-//ChamberMaster//Event Calendar 2.0//EN
METHOD:PUBLISH
X-PUBLISHED-TTL:P3D
REFRESH-INTERVAL:P3D
CALSCALE:GREGORIAN
BEGIN:VEVENT
DTSTART:20201104T183000Z
DTEND:20201104T193000Z
X-MICROSOFT-CDO-ALLDAYEVENT:FALSE
SUMMARY:Ribbon Cutting: Children's Emergency Shelter - Reveals Walking Trail
DESCRIPTION:Join us to celebrate this special addition to the Fort Smith Children's Emergency Shelter's campus! Please register\, if you plan to attend. Masks required and social distancing directives followed per Arkansas Department of Health directives.\n\nThe Children's Emergency Shelter received a $12\,000 grant from the Arvest Foundation for a therapeutic walking trail to be constructed behind the Shelter home. The "Arvest Foundation" therapeutic walking trail will serve as a place for our kids to de-escalate and learn how to cope with their trauma as well as provide them a place to exercise and practice healthy lifestyle choices. The trail was recently completed by Forsgren Inc\, who also donated a fire pit. In the near future\, ropes course and fitness equipment will be added to the grounds to provide additional opportunities for our kids to learn\, grow\, and cope. \n\nFor over 23 years\, the Children's Shelter has provided a safe home to youth in foster care. Every child that lives at the Shelter is a victim of abuse and neglect from those who were supposed to love them the most. These kids face high levels of emotional and behavioral challenges due to this neglect and abuse. The Children's Shelter goal is to not only give them a safe place to call home but to provide the therapy services needed to overcome their trauma and learn how to cope in a positive manner--all while having the opportunity to "just be kids!"\n\nRepresentatives from Arvest\, the Children's Shelter\, and Forsgren Inc will be present.
X-ALT-DESC;FMTTYPE=text/html:Join us to celebrate this special addition to the Fort Smith Children&#39\;s Emergency Shelter&#39\;s campus! Please register\, if you plan to attend. Masks required and social distancing directives followed per Arkansas Department of Health directives.<br />\nThe Children&#39\;s Emergency Shelter&nbsp\;received a $12\,000 grant from the Arvest Foundation for a therapeutic walking trail to be constructed behind the Shelter home. The &quot\;Arvest Foundation&quot\; therapeutic walking trail will serve as a place for our kids to de-escalate and learn how to cope with their trauma as well as provide them a place to exercise and practice healthy lifestyle choices. The trail was recently completed by Forsgren Inc\, who also donated a fire pit. In the near future\, ropes course and fitness equipment will be added to the grounds to provide additional opportunities for our kids to learn\, grow\, and cope.&nbsp\;<br />\nFor over 23 years\, the Children&#39\;s Shelter has provided a safe home to youth in foster care. Every child that lives at the Shelter is a victim of abuse and neglect from those who were supposed to love them the most. These kids face high levels of emotional and behavioral challenges due to this neglect and abuse. The Children&#39\;s Shelter goal is to not only give them a safe place to call home but to provide the therapy services needed to overcome their trauma and learn how to cope in a positive manner--all while having the opportunity&nbsp\;to &quot\;just be kids!&quot\;<br />\nRepresentatives from Arvest\, the Children&#39\;s Shelter\, and Forsgren Inc will be present.&nbsp\;<br />\n&nbsp\;
LOCATION:Children's Emergency Shelter 3015 S 14th St Fort Smith\, AR 72901
UID:e.201.10242
SEQUENCE:3
DTSTAMP:20260425T173906Z
URL:https://public.fortsmithchamber.com/events/details/ribbon-cutting-children-s-emergency-shelter-reveals-walking-trail-10242
END:VEVENT

END:VCALENDAR
