BEGIN:VCALENDAR
VERSION:2.0
PRODID:-//ChamberMaster//Event Calendar 2.0//EN
METHOD:PUBLISH
X-PUBLISHED-TTL:P3D
REFRESH-INTERVAL:P3D
CALSCALE:GREGORIAN
BEGIN:VEVENT
DTSTART:20260520T150000Z
DTEND:20260520T160000Z
X-MICROSOFT-CDO-ALLDAYEVENT:FALSE
SUMMARY:Ribbon Cutting: Community Rescue Mission - Miller Cottages
DESCRIPTION:Join us for a ribbon cutting for the Miller Cottages!
X-ALT-DESC;FMTTYPE=text/html:Join us for a ribbon cutting for the Miller Cottages!
LOCATION:504 North 4th Street Fort Smith\, AR 72901
UID:e.201.23934
SEQUENCE:3
DTSTAMP:20260423T090124Z
URL:https://public.fortsmithchamber.com/events/details/ribbon-cutting-community-rescue-mission-miller-cottages-23934
END:VEVENT

END:VCALENDAR
