BEGIN:VCALENDAR
VERSION:2.0
PRODID:-//ChamberMaster//Event Calendar 2.0//EN
METHOD:PUBLISH
X-PUBLISHED-TTL:P3D
REFRESH-INTERVAL:P3D
CALSCALE:GREGORIAN
BEGIN:VEVENT
DTSTART:20240612T160000Z
DTEND:20240612T170000Z
X-MICROSOFT-CDO-ALLDAYEVENT:FALSE
SUMMARY:Ribbon Cutting/Grand Opening: RRCU (Red River Credit Union)
DESCRIPTION:Join us for a ribbon cutting for Red River Credit Union! They will be serving refreshments!
X-ALT-DESC;FMTTYPE=text/html:Join us for a ribbon cutting for Red River Credit Union! They will be serving refreshments!&nbsp\;
LOCATION:4300 Rogers Ave. Fort Smith\, AR 72903
UID:e.201.19519
SEQUENCE:3
DTSTAMP:20260421T052347Z
URL:https://public.fortsmithchamber.com/events/details/ribbon-cutting-grand-opening-rrcu-red-river-credit-union-19519
END:VEVENT

END:VCALENDAR
