BEGIN:VCALENDAR
VERSION:2.0
PRODID:-//ChamberMaster//Event Calendar 2.0//EN
METHOD:PUBLISH
X-PUBLISHED-TTL:P3D
REFRESH-INTERVAL:P3D
CALSCALE:GREGORIAN
BEGIN:VEVENT
DTSTART:20260515T160000Z
DTEND:20260515T170000Z
X-MICROSOFT-CDO-ALLDAYEVENT:FALSE
SUMMARY:Ribbon Cutting: Hope Campus - New Covered Patio
DESCRIPTION:Join us for a ribbon cutting celebrating Hope Campus's new covered patio!
X-ALT-DESC;FMTTYPE=text/html:Join us for a ribbon cutting celebrating Hope Campus&#39\;s new covered patio!
LOCATION:301 South E Street Fort Smith\, AR 72901
UID:e.201.23933
SEQUENCE:3
DTSTAMP:20260421T092645Z
URL:https://public.fortsmithchamber.com/events/details/ribbon-cutting-hope-campus-new-covered-patio-23933
END:VEVENT

END:VCALENDAR
