BEGIN:VCALENDAR
VERSION:2.0
PRODID:-//ChamberMaster//Event Calendar 2.0//EN
METHOD:PUBLISH
X-PUBLISHED-TTL:P3D
REFRESH-INTERVAL:P3D
CALSCALE:GREGORIAN
BEGIN:VEVENT
DTSTART:20241030T170000Z
DTEND:20241030T180000Z
X-MICROSOFT-CDO-ALLDAYEVENT:FALSE
SUMMARY:Ribbon Cutting: Wells Capital Foundation Experts
DESCRIPTION:Join us for a ribbon cutting for Wells Capital Foundation Experts!
X-ALT-DESC;FMTTYPE=text/html:Join us for a ribbon cutting for Wells Capital Foundation Experts!
LOCATION:1910 S 28th Street. Van Buren\, AR 72956
UID:e.201.19741
SEQUENCE:3
DTSTAMP:20260423T131347Z
URL:https://public.fortsmithchamber.com/events/details/ribbon-cutting-wells-capital-foundation-experts-19741
END:VEVENT

END:VCALENDAR
