BEGIN:VCALENDAR
VERSION:2.0
PRODID:-//ChamberMaster//Event Calendar 2.0//EN
METHOD:PUBLISH
X-PUBLISHED-TTL:P3D
REFRESH-INTERVAL:P3D
CALSCALE:GREGORIAN
BEGIN:VEVENT
DTSTART:20241011T130000Z
DTEND:20241011T173000Z
X-MICROSOFT-CDO-ALLDAYEVENT:FALSE
SUMMARY:Western Arkansas Manufacturing Summit
DESCRIPTION:The Western Arkansas Manufacturing Summit is a dynamic and forward-thinking event set to examine the current and future manufacturing landscape in Western Arkansas. The summit will bring together professionals\, education administrators\, and leaders from various sectors to gain valuable insights from speakers and panels.\n\n \n\nEvent Highlights\n\nRemarks from Congressman Steve Womack\n\n\n\nState of Arkansas Workforce & Economic Outlook and Resources\n\n\n\nWhy Western Arkansas? \n\nA look at different companies' expansion and location decisions.\n\n\n\nAdvanced Manufacturing & Industry 4.0\n\nUAFS and area companies discuss the current and future need for high skilled advanced manufacturing technicians and engineers.\n\n\n\nArkansas Manufacturing Professionals\n\nAMP's organization leadership discusses their mission to empower and develop manufacturing professionals\, foster professional relationships\, and drive industry success.\n\n\n\nCareer Stories & Advice for Manufacturing Professionals\n\nJoin a dynamic panel discussion featuring accomplished manufacturing leaders as they share their career journeys\, the pivotal decisions that shaped their paths\, and gain valuable guidance on how to thrive in the fast-paced manufacturing world.\n\n\n\nLuncheon Keynote Address\n\nMike Rogers\, Chief Workforce Officer   State of Arkansas
X-ALT-DESC;FMTTYPE=text/html:<span style="font-family:arial\;"><span style="font-size:14px\;">The Western Arkansas Manufacturing Summit is a dynamic and forward-thinking event set to examine the current and future manufacturing landscape in Western Arkansas. The summit will bring together professionals\, education administrators\, and leaders from various sectors to gain valuable insights from speakers and panels.<br />\n&nbsp\;<br />\n<u><span style="text-decoration:underline\;text-underline:single\;font-weight:bold\;language:en-US\;">Event Highlights</span></u><br />\n<strong>Remarks from Congressman Steve Womack</strong><br />\n<br />\n<span style="font-weight:bold\;language:en-US\;">State of Arkansas Workforce &amp\; Economic&nbsp\;</span><span style="font-weight:bold\;language:en-US\;">Outlook and Resources</span><br />\n<br />\n<span style="font-weight:bold\;language:en-US\;">Why Western Arkansas?&nbsp\;</span><br />\nA look at different companies&rsquo\; expansion and location decisions.<br />\n<br />\n<span style="font-weight:bold\;language:en-US\;">Advanced Manufacturing &amp\; Industry 4.0</span><br />\nUAFS and area companies discuss the current and&nbsp\;future need for high skilled advanced&nbsp\;manufacturing technicians and engineers.<br />\n<br />\n<strong>Arkansas Manufacturing Professionals</strong><br />\nAMP&#39\;s organization leadership discusses their mission to&nbsp\;empower and develop manufacturing professionals\,&nbsp\;foster professional relationships\, and drive industry&nbsp\;success.<br />\n<br />\n<span style="font-weight:bold\;language:en-US\;"><span style="color:black\;">Career Stories &amp\; Advice for Manufacturing Professionals</span></span><br />\n<span style="color:black\;">Join a dynamic panel discussion featuring&nbsp\;accomplished manufacturing leaders as they&nbsp\;share their career journeys\, the pivotal decisions&nbsp\;that shaped their paths\, and </span>gain valuable&nbsp\;guidance on how to thrive in the fast-paced manufacturing world.<br />\n<br />\n<span style="font-weight:bold\;language:en-US\;">Luncheon Keynote Address</span></span><br />\n<span style="font-size:12.0pt\;"><span style="font-size:14px\;">Mike Rogers\, Chief Workforce Officer &mdash\;&nbsp\;State of Arkansas</span> </span></span>
LOCATION:Peak Innovation Center 5900 Painter Lane Fort Smith\, Arkansas 72903
UID:e.201.19645
SEQUENCE:3
DTSTAMP:20260424T010148Z
URL:https://public.fortsmithchamber.com/events/details/western-arkansas-manufacturing-summit-19645
END:VEVENT

END:VCALENDAR
